BEGIN:VCALENDAR
VERSION:2.0
PRODID:-//Plone.org//NONSGML plone.app.event//EN
X-WR-TIMEZONE:America/Maceio
BEGIN:VEVENT
SUMMARY:Término do Período Letivo 2025.1
DTSTART;VALUE=DATE:20251128
DTEND;VALUE=DATE:20251129
DTSTAMP:20260420T165431Z
UID:2717c534fa6949428a481b5eb8e430cf@principal.ufal.br
CREATED:20241121T152724Z
LAST-MODIFIED:20241121T152731Z
URL:https://ufal.br/estudante/graduacao/calendario-academico/2025/termino-
 do-periodo-letivo-2025.1
END:VEVENT
END:VCALENDAR
