BEGIN:VCALENDAR
VERSION:2.0
PRODID:-//Plone.org//NONSGML plone.app.event//EN
X-WR-TIMEZONE:America/Maceio
BEGIN:VEVENT
SUMMARY:Recesso Acadêmico
DTSTART;VALUE=DATE:20250609
DTEND;VALUE=DATE:20250706
DTSTAMP:20260420T120739Z
UID:1af0de8e6f5340d4876cc18a23f87577@principal.ufal.br
CREATED:20241121T152427Z
LAST-MODIFIED:20241121T154021Z
URL:https://ufal.br/estudante/graduacao/calendario-academico/2025/recesso-
 academico
END:VEVENT
END:VCALENDAR
