BEGIN:VCALENDAR
VERSION:2.0
PRODID:-//Plone.org//NONSGML plone.app.event//EN
X-WR-TIMEZONE:America/Maceio
BEGIN:VEVENT
SUMMARY:Início do Período Letivo 2025.1
DTSTART;VALUE=DATE:20250707
DTEND;VALUE=DATE:20250708
DTSTAMP:20260421T013059Z
UID:7382806c97534842b36ccf7dea1060e9@principal.ufal.br
CREATED:20241121T152543Z
LAST-MODIFIED:20241121T152757Z
URL:https://ufal.br/estudante/graduacao/calendario-academico/2025/inicio-d
 o-periodo-letivo
END:VEVENT
END:VCALENDAR
