BEGIN:VCALENDAR
VERSION:2.0
PRODID:-//Plone.org//NONSGML plone.app.event//EN
X-WR-TIMEZONE:America/Maceio
BEGIN:VEVENT
SUMMARY:Término do Período Letivo 2024.1
DTSTART;VALUE=DATE:20241207
DTEND;VALUE=DATE:20241208
DTSTAMP:20260420T144158Z
UID:278400305e204fd48a6c2835b7d89444@principal.ufal.br
CREATED:20241121T153331Z
LAST-MODIFIED:20241121T153333Z
URL:https://ufal.br/estudante/graduacao/calendario-academico/2024/termino-
 do-periodo-letivo-2024.1
END:VEVENT
END:VCALENDAR
