BEGIN:VCALENDAR
VERSION:2.0
PRODID:-//Plone.org//NONSGML plone.app.event//EN
X-WR-TIMEZONE:America/Maceio
BEGIN:VEVENT
SUMMARY:Recesso Acadêmico
DTSTART;VALUE=DATE:20241209
DTEND;VALUE=DATE:20241225
DTSTAMP:20260420T120738Z
UID:2336cc96ba764aed9eb2430811fbd452@principal.ufal.br
CREATED:20241121T153534Z
LAST-MODIFIED:20241121T153537Z
URL:https://ufal.br/estudante/graduacao/calendario-academico/2024/recesso-
 academico
END:VEVENT
END:VCALENDAR
