BEGIN:VCALENDAR
VERSION:2.0
PRODID:-//Plone.org//NONSGML plone.app.event//EN
X-WR-TIMEZONE:America/Maceio
BEGIN:VEVENT
SUMMARY:Recesso Acadêmico
DTSTART;VALUE=DATE:20250102
DTEND;VALUE=DATE:20250120
DTSTAMP:20260420T131452Z
UID:199bee618e3f4fedbd83e2509b66caa3@principal.ufal.br
CREATED:20241121T153628Z
LAST-MODIFIED:20241121T153631Z
URL:https://ufal.br/estudante/graduacao/calendario-academico/2024/recesso-
 academico-1
END:VEVENT
END:VCALENDAR
