BEGIN:VCALENDAR
VERSION:2.0
PRODID:-//Plone.org//NONSGML plone.app.event//EN
X-WR-TIMEZONE:America/Maceio
BEGIN:VEVENT
SUMMARY:Início do Período Letivo 2024.2
DTSTART;VALUE=DATE:20250120
DTEND;VALUE=DATE:20250121
DTSTAMP:20260420T155610Z
UID:3bf8c8588e464a93804006747a0c7777@principal.ufal.br
CREATED:20241121T153729Z
LAST-MODIFIED:20241121T153731Z
URL:https://ufal.br/estudante/graduacao/calendario-academico/2024/inicio-d
 o-periodo-letivo-2024.2
END:VEVENT
END:VCALENDAR
