BEGIN:VCALENDAR
VERSION:2.0
PRODID:-//Plone.org//NONSGML plone.app.event//EN
X-WR-TIMEZONE:America/Maceio
BEGIN:VEVENT
SUMMARY:Recesso  (Férias escolares - entre os anos letivos)
DTSTART;TZID=America/Maceio:20220725T190000
DTEND;TZID=America/Maceio:20220810T235500
DTSTAMP:20260420T203643Z
UID:a3a2f1aed69b46d3b995f019fe60e0b9@principal.ufal.br
CREATED:20220406T221138Z
DESCRIPTION:Conforme a Resolução Consuni/Ufal n. 61/2021\, de 14/09/2021
 \, publicado pela Secretaria dos Conselhos Superiores da UFAL - Secs/Ufal 
 (Vide a pasta "2021"\, da Seção "Resoluções" na Aba "Documentos"\, do 
 Portal da Transparência do site da UFAL)
LAST-MODIFIED:20220406T221224Z
URL:https://ufal.br/estudante/graduacao/calendario-academico/2021/recesso-
 ferias-escolares-entre-os-anos-letivos
END:VEVENT
BEGIN:VTIMEZONE
TZID:America/Maceio
X-LIC-LOCATION:America/Maceio
BEGIN:STANDARD
DTSTART:20020216T230000
TZNAME:-03
TZOFFSETFROM:-0200
TZOFFSETTO:-0300
END:STANDARD
END:VTIMEZONE
END:VCALENDAR
