BEGIN:VCALENDAR
VERSION:2.0
PRODID:-//Plone.org//NONSGML plone.app.event//EN
X-WR-TIMEZONE:America/Maceio
BEGIN:VEVENT
SUMMARY:Recesso Acadêmico (entre semestres)
DTSTART;TZID=America/Maceio:20220307T190000
DTEND;TZID=America/Maceio:20220320T235500
DTSTAMP:20260420T161032Z
UID:81458881865140dfbc4a0572225028c9@principal.ufal.br
CREATED:20220406T220728Z
DESCRIPTION:Conforme a Resolução Consuni/Ufal n. 61/2021\, de 14/09/2021
 \, publicado pela Secretaria dos Conselhos Superiores da UFAL - Secs/Ufal 
 (Vide a pasta "2021"\, da Seção "Resoluções" na Aba "Documentos"\, do 
 Portal da Transparência do site da UFAL)
LAST-MODIFIED:20220406T221224Z
URL:https://ufal.br/estudante/graduacao/calendario-academico/2021/recesso-
 academico-entre-semestres
END:VEVENT
BEGIN:VTIMEZONE
TZID:America/Maceio
X-LIC-LOCATION:America/Maceio
BEGIN:STANDARD
DTSTART:20020216T230000
TZNAME:-03
TZOFFSETFROM:-0200
TZOFFSETTO:-0300
END:STANDARD
END:VTIMEZONE
END:VCALENDAR
