BEGIN:VCALENDAR
VERSION:2.0
PRODID:-//Plone.org//NONSGML plone.app.event//EN
X-WR-TIMEZONE:America/Maceio
BEGIN:VEVENT
SUMMARY:Recesso (Férias escolares - entre os anos letivos)
DTSTART;TZID=America/Maceio:20211004T000000
DTEND;TZID=America/Maceio:20211018T235500
DTSTAMP:20260420T221344Z
UID:408f97a12057463088c3853ac261df8b@principal.ufal.br
CREATED:20210119T175328Z
DESCRIPTION:Conforme a Resolução Consuni/Ufal n. 80/2020\, de 30/12/2020
 \, publicado pela Secretaria dos Conselhos Superiores da UFAL - Secs/Ufal 
 (Vide a pasta "2020"\, da Seção "Resoluções" na Aba "Documentos"\, do 
 Portal da Transparência do site da UFAL) - 15 dias
LAST-MODIFIED:20210119T175541Z
URL:https://ufal.br/estudante/graduacao/calendario-academico/2020/recesso-
 ferias-escolares-entre-os-anos-letivos
END:VEVENT
BEGIN:VTIMEZONE
TZID:America/Maceio
X-LIC-LOCATION:America/Maceio
BEGIN:STANDARD
DTSTART:20020216T230000
TZNAME:-03
TZOFFSETFROM:-0200
TZOFFSETTO:-0300
END:STANDARD
END:VTIMEZONE
END:VCALENDAR
