BEGIN:VCALENDAR
VERSION:2.0
PRODID:-//Plone.org//NONSGML plone.app.event//EN
X-WR-TIMEZONE:America/Maceio
BEGIN:VEVENT
SUMMARY:Recesso (entre semestres - Suspenso)
DTSTART;TZID=America/Maceio:20200723T000000
DTEND;TZID=America/Maceio:20200804T235500
DTSTAMP:20260420T100405Z
UID:e068828051194937adcf8ce4e82ae170@principal.ufal.br
CREATED:20191218T214833Z
DESCRIPTION:Suspenso em 18/03/2020 - Devido a pandemia de Covid-19\, de ac
 ordo com a Res. Consuni/Ufal n. 14/2020\, de 18/03/2020
LAST-MODIFIED:20210119T172212Z
URL:https://ufal.br/estudante/graduacao/calendario-academico/2020/recesso-
 entre-semestres
END:VEVENT
BEGIN:VTIMEZONE
TZID:America/Maceio
X-LIC-LOCATION:America/Maceio
BEGIN:STANDARD
DTSTART:20020216T230000
TZNAME:-03
TZOFFSETFROM:-0200
TZOFFSETTO:-0300
END:STANDARD
END:VTIMEZONE
END:VCALENDAR
