BEGIN:VCALENDAR
VERSION:2.0
PRODID:-//Plone.org//NONSGML plone.app.event//EN
X-WR-TIMEZONE:America/Maceio
BEGIN:VEVENT
SUMMARY:Férias escolares (entre os anos letivos - Suspensa)
DTSTART;TZID=America/Maceio:20201222T000000
DTEND;TZID=America/Maceio:20210221T235500
DTSTAMP:20260420T211421Z
UID:f769087b29104bdd93be7402e764845b@principal.ufal.br
CREATED:20191218T215357Z
DESCRIPTION:Suspenso em 18/03/2020 - Devido a pandemia de Covid-19\, de ac
 ordo com a Res. Consuni/Ufal n. 14/2020\, de 18/03/2020
LAST-MODIFIED:20210119T172403Z
URL:https://ufal.br/estudante/graduacao/calendario-academico/2020/ferias-e
 scolares-entre-os-anos-letivos
END:VEVENT
BEGIN:VTIMEZONE
TZID:America/Maceio
X-LIC-LOCATION:America/Maceio
BEGIN:STANDARD
DTSTART:20020216T230000
TZNAME:-03
TZOFFSETFROM:-0200
TZOFFSETTO:-0300
END:STANDARD
END:VTIMEZONE
END:VCALENDAR
