BEGIN:VCALENDAR
VERSION:2.0
PRODID:-//Plone.org//NONSGML plone.app.event//EN
X-WR-TIMEZONE:America/Maceio
BEGIN:VEVENT
SUMMARY:Recesso (entre semestres)
DTSTART;TZID=America/Maceio:20190909T000000
DTEND;TZID=America/Maceio:20190922T235500
DTSTAMP:20260420T100931Z
UID:faaeb9d5726340bbb0af448413536b43@principal.ufal.br
CREATED:20190325T183035Z
LAST-MODIFIED:20190325T183918Z
URL:https://ufal.br/estudante/graduacao/calendario-academico/2019/recesso-
 entre-semestres
END:VEVENT
BEGIN:VTIMEZONE
TZID:America/Maceio
X-LIC-LOCATION:America/Maceio
BEGIN:STANDARD
DTSTART:20020216T230000
TZNAME:-03
TZOFFSETFROM:-0200
TZOFFSETTO:-0300
END:STANDARD
END:VTIMEZONE
END:VCALENDAR
