BEGIN:VCALENDAR
VERSION:2.0
PRODID:-//Plone.org//NONSGML plone.app.event//EN
X-WR-TIMEZONE:America/Maceio
BEGIN:VEVENT
SUMMARY:Férias Escolares
DTSTART;TZID=America/Maceio:20200102T000000
DTEND;TZID=America/Maceio:20200119T235500
DTSTAMP:20260420T052855Z
UID:9d0f181234ec484a9706b7279a5c9417@principal.ufal.br
CREATED:20190325T183346Z
LAST-MODIFIED:20190325T184001Z
URL:https://ufal.br/estudante/graduacao/calendario-academico/2019/ferias-e
 scolares
END:VEVENT
BEGIN:VTIMEZONE
TZID:America/Maceio
X-LIC-LOCATION:America/Maceio
BEGIN:STANDARD
DTSTART:20020216T230000
TZNAME:-03
TZOFFSETFROM:-0200
TZOFFSETTO:-0300
END:STANDARD
END:VTIMEZONE
END:VCALENDAR
