BEGIN:VCALENDAR
VERSION:2.0
PRODID:-//Plone.org//NONSGML plone.app.event//EN
X-WR-TIMEZONE:America/Maceio
BEGIN:VEVENT
SUMMARY:Férias Escolares (entre anos letivos)
DTSTART;TZID=America/Maceio:20200302T000000
DTEND;TZID=America/Maceio:20200315T235500
DTSTAMP:20260420T162856Z
UID:ceafa312a03145eb9dbf41a2346bafbb@principal.ufal.br
CREATED:20190325T183636Z
LAST-MODIFIED:20190325T184031Z
URL:https://ufal.br/estudante/graduacao/calendario-academico/2019/ferias-e
 scolares-entre-anos-letivos
END:VEVENT
BEGIN:VTIMEZONE
TZID:America/Maceio
X-LIC-LOCATION:America/Maceio
BEGIN:STANDARD
DTSTART:20020216T230000
TZNAME:-03
TZOFFSETFROM:-0200
TZOFFSETTO:-0300
END:STANDARD
END:VTIMEZONE
END:VCALENDAR
