BEGIN:VCALENDAR
VERSION:2.0
PRODID:-//Plone.org//NONSGML plone.app.event//EN
X-WR-TIMEZONE:America/Maceio
BEGIN:VEVENT
SUMMARY:Férias Escolares
DTSTART;VALUE=DATE:20190102
DTEND;VALUE=DATE:20190121
DTSTAMP:20260420T065821Z
UID:eed6bd03444848e2a1da1aae5a2808db@principal.ufal.br
CREATED:20180618T113047Z
LAST-MODIFIED:20180618T113218Z
URL:https://ufal.br/estudante/graduacao/calendario-academico/2018/ferias-e
 scolares
END:VEVENT
END:VCALENDAR
