BEGIN:VCALENDAR
VERSION:2.0
PRODID:-//Plone.org//NONSGML plone.app.event//EN
X-WR-TIMEZONE:America/Maceio
BEGIN:VEVENT
SUMMARY:Encerramento do período letivo 2018.2
DTSTART;VALUE=DATE:20190423
DTEND;VALUE=DATE:20190424
DTSTAMP:20260420T133544Z
UID:7edd909d949b4419ba32edb737c8af62@principal.ufal.br
CREATED:20180618T113335Z
LAST-MODIFIED:20180618T113340Z
URL:https://ufal.br/estudante/graduacao/calendario-academico/2018/encerram
 ento-do-periodo-letivo-2018.2
END:VEVENT
END:VCALENDAR
